BEGIN:VCALENDAR
VERSION:2.0
METHOD:PUBLISH
X-WR-CALNAME:InterRidge :: International Cooperation in Ridge-Crest Studies |  August 16 2012- August 16 2012
PRODID:-//strange bird labs//Drupal iCal API//EN
BEGIN:VEVENT
DTSTAMP;VALUE=DATE-TIME:20260419T194640Z
DTSTART;VALUE=DATE-TIME:20120813T090000Z
DTEND;VALUE=DATE-TIME:20120817T170000Z
UID:http://194.254.225.67/node/6331
URL;VALUE=URI:http://194.254.225.67/node/6331
SUMMARY:AOGS - AGU (WPGM) Joint Assembly\, Singapore
DESCRIPTION:<p>Website\: <a href=\\"http\://www.asiaoceania.org/aogs2012\\" title=\\"http\://www.asiaoceania.org/aogs2012\\">http\://www.asiaoceania.org/aogs2012</a></p>
 <p>Abstract deadline and Earlybird registration\: 12 March 2012</p>
 
END:VEVENT
END:VCALENDAR
